Workbook

Sheet Sheet1
A1: 管理学院2026年本科生单项奖学金拟推荐名单汇总表
A2: 奖项名称 | B2: 学院 | C2: 姓名 | D2: 学号 | E2: 备注
A3: 明德奖学金 | B3: 管理学院 | C3: 冯琦 | D3: =VLOOKUP(C3,[1]备份!$A:$B,2,0) -> 320230915080
B4: 管理学院 | C4: 孙韫哲 | D4: =VLOOKUP(C4,[1]备份!$A:$B,2,0) -> 320230916251
B5: 管理学院 | C5: 赵应欣 | D5: =VLOOKUP(C5,[1]备份!$A:$B,2,0) -> 320230917240
B6: 管理学院 | C6: 杨润茜 | D6: =VLOOKUP(C6,[1]备份!$A:$B,2,0) -> 320240916740
B7: 管理学院 | C7: 郑令蕾 | D7: =VLOOKUP(C7,[1]备份!$A:$B,2,0) -> 320240933380
B8: 管理学院 | C8: 常馨予 | D8: =VLOOKUP(C8,[1]备份!$A:$B,2,0) -> 320250916190
B9: 管理学院 | C9: 韩天健 | D9: =VLOOKUP(C9,[1]备份!$A:$B,2,0) -> 320250916570
B10: 管理学院 | C10: 贾子轩 | D10: =VLOOKUP(C10,[1]备份!$A:$B,2,0) -> 320250916691
B11: 管理学院 | C11: 王杞文 | D11: =VLOOKUP(C11,[1]备份!$A:$B,2,0) -> 320250917820
A12: 笃学奖学金 | B12: 管理学院 | C12: 黄嘉怡 | D12: =VLOOKUP(C12,[1]备份!$A:$B,2,0) -> 320230915410
B13: 管理学院 | C13: 栗园栋 | D13: =VLOOKUP(C13,[1]备份!$A:$B,2,0) -> 320230915751
B14: 管理学院 | C14: 刘洁 | D14: =VLOOKUP(C14,[1]备份!$A:$B,2,0) -> 320230915900
B15: 管理学院 | C15: 秦赛 | D15: =VLOOKUP(C15,[1]备份!$A:$B,2,0) -> 320230916100
B16: 管理学院 | C16: 孙曼翎 | D16: =VLOOKUP(C16,[1]备份!$A:$B,2,0) -> 320230916230
B17: 管理学院 | C17: 孙岩柏 | D17: =VLOOKUP(C17,[1]备份!$A:$B,2,0) -> 320230916240
B18: 管理学院 | C18: 王静 | D18: =VLOOKUP(C18,[1]备份!$A:$B,2,0) -> 320230916370
B19: 管理学院 | C19: 王梦瑶 | D19: =VLOOKUP(C19,[1]备份!$A:$B,2,0) -> 320230916400
B20: 管理学院 | C20: 王昊天 | D20: =VLOOKUP(C20,[1]备份!$A:$B,2,0) -> 320230916521
B21: 管理学院 | C21: 熊婧慧 | D21: =VLOOKUP(C21,[1]备份!$A:$B,2,0) -> 320230916700
B22: 管理学院 | C22: 杨琬芝 | D22: =VLOOKUP(C22,[1]备份!$A:$B,2,0) -> 320230916920
B23: 管理学院 | C23: 张俊 | D23: =VLOOKUP(C23,[1]备份!$A:$B,2,0) -> 320230917131
B24: 管理学院 | C24: 张少邦 | D24: =VLOOKUP(C24,[1]备份!$A:$B,2,0) -> 320230917151
... B30: 管理学院 | C30: 师英童 | D30: =VLOOKUP(C30,[1]备份!$A:$B,2,0) -> 320250917521
A31: 健行奖学金 | B31: 管理学院 | C31: 阚文萱 | D31: 320220915320
B32: 管理学院 | C32: 王宇彤 | D32: =VLOOKUP(C32,[1]备份!$A:$B,2,0) -> 320230916481
B33: 管理学院 | C33: 饶憬 | D33: =VLOOKUP(C33,[1]备份!$A:$B,2,0) -> 320240915960
B34: 管理学院 | C34: 也尔加那提·开克巴提 | D34: =VLOOKUP(C34,[1]备份!$A:$B,2,0) -> 320240916801
B35: 管理学院 | C35: 张紫媛 | D35: =VLOOKUP(C35,[1]备份!$A:$B,2,0) -> 320240917150
B36: 管理学院 | C36: 邹陈成 | D36: =VLOOKUP(C36,[1]备份!$A:$B,2,0) -> 320240917330
A37: 毓美奖学金 | B37: 管理学院 | C37: 冀璠 | D37: =VLOOKUP(C37,[1]备份!$A:$B,2,0) -> 320240915120
B38: 管理学院 | C38: 吴优 | D38: =VLOOKUP(C38,[1]备份!$A:$B,2,0) -> 320240916510
B39: 管理学院 | C39: 许勤 | D39: =VLOOKUP(C39,[1]备份!$A:$B,2,0) -> 320240916610
B40: 管理学院 | C40: 郑熙敏 | D40: =VLOOKUP(C40,[1]备份!$A:$B,2,0) -> 320240917240
B41: 管理学院 | C41: 刘嘉程 | D41: =VLOOKUP(C41,[1]备份!$A:$B,2,0) -> 320250917080
B42: 管理学院 | C42: 穆尧 | D42: =VLOOKUP(C42,[1]备份!$A:$B,2,0) -> 320250917361
A43: 躬行奖学金 | B43: 管理学院 | C43: 何迁 | D43: =VLOOKUP(C43,[1]备份!$A:$B,2,0) -> 320230915280
B44: 管理学院 | C44: 李百禾 | D44: =VLOOKUP(C44,[1]备份!$A:$B,2,0) -> 320230915520
B45: 管理学院 | C45: 李煜宸 | D45: =VLOOKUP(C45,[1]备份!$A:$B,2,0) -> 320230915721
B46: 管理学院 | C46: 刘航宇 | D46: =VLOOKUP(C46,[1]备份!$A:$B,2,0) -> 320230915881
B47: 管理学院 | C47: 周乐淘 | D47: =VLOOKUP(C47,[1]备份!$A:$B,2,0) -> 320230917320
B48: 管理学院 | C48: 黄喜萍 | D48: =VLOOKUP(C48,[1]备份!$A:$B,2,0) -> 320240915060
B49: 管理学院 | C49: 赖漩榆 | D49: =VLOOKUP(C49,[1]备份!$A:$B,2,0) -> 320240915210
B50: 管理学院 | C50: 李溪哲 | D50: =VLOOKUP(C50,[1]备份!$A:$B,2,0) -> 320240915351
B51: 管理学院 | C51: 刘润钦 | D51: =VLOOKUP(C51,[1]备份!$A:$B,2,0) -> 320240915571
B52: 管理学院 | C52: 漆武 | D52: =VLOOKUP(C52,[1]备份!$A:$B,2,0) -> 320240915891
B53: 管理学院 | C53: 宋可为 | D53: =VLOOKUP(C53,[1]备份!$A:$B,2,0) -> 320240916071
B54: 管理学院 | C54: 王嘉庆 | D54: =VLOOKUP(C54,[1]备份!$A:$B,2,0) -> 320240916321
B55: 管理学院 | C55: 宗姿菡 | D55: =VLOOKUP(C55,[1]备份!$A:$B,2,0) -> 320240917320
... B60: 管理学院 | C60: 赵函乐 | D60: =VLOOKUP(C60,[1]备份!$A:$B,2,0) -> 320250918720
